BEGIN:VCALENDAR
VERSION:2.0
PRODID:-//Flamenco Vivo Carlota Santana - ECPv6.15.20//NONSGML v1.0//EN
CALSCALE:GREGORIAN
METHOD:PUBLISH
X-ORIGINAL-URL:https://flamenco-vivo.org
X-WR-CALDESC:Events for Flamenco Vivo Carlota Santana
REFRESH-INTERVAL;VALUE=DURATION:PT1H
X-Robots-Tag:noindex
X-PUBLISHED-TTL:PT1H
BEGIN:VTIMEZONE
TZID:America/New_York
BEGIN:DAYLIGHT
TZOFFSETFROM:-0500
TZOFFSETTO:-0400
TZNAME:EDT
DTSTART:20240310T070000
END:DAYLIGHT
BEGIN:STANDARD
TZOFFSETFROM:-0400
TZOFFSETTO:-0500
TZNAME:EST
DTSTART:20241103T060000
END:STANDARD
BEGIN:DAYLIGHT
TZOFFSETFROM:-0500
TZOFFSETTO:-0400
TZNAME:EDT
DTSTART:20250309T070000
END:DAYLIGHT
BEGIN:STANDARD
TZOFFSETFROM:-0400
TZOFFSETTO:-0500
TZNAME:EST
DTSTART:20251102T060000
END:STANDARD
BEGIN:DAYLIGHT
TZOFFSETFROM:-0500
TZOFFSETTO:-0400
TZNAME:EDT
DTSTART:20260308T070000
END:DAYLIGHT
BEGIN:STANDARD
TZOFFSETFROM:-0400
TZOFFSETTO:-0500
TZNAME:EST
DTSTART:20261101T060000
END:STANDARD
END:VTIMEZONE
BEGIN:VEVENT
DTSTART;TZID=America/New_York:20250827T183000
DTEND;TZID=America/New_York:20250827T200000
DTSTAMP:20260422T000815
CREATED:20250728T175329Z
LAST-MODIFIED:20250826T003232Z
UID:14429-1756319400-1756324800@flamenco-vivo.org
SUMMARY:Encuentro Flamenco: Castanet Concert by Elisabet Torras  August 27
DESCRIPTION:Encuentro Flamenco: Castanet Concert by Elisabet Torras\nWednesday August 27th @ 6:30 PM |\nFlamenco Vivo Studios (4 West 43rd street Studio A\, 8th Floor)\nExperience an unforgettable evening celebrating the power and rhythmic elegance of castanets in a unique journey through classical Spanish music and traditional flamenco styles in an intimate concert you will not want to miss. Featuring performances by Elisabet Torras and Nico Sansiviero. \nThis event is FREE for NYC Flamenco Passholders. All other attendees $20 in advance\nGeneral Tickets:\n\n\nPASSHOLDER TICKETS\nFree for NYC Flamenco Pass Holders\nPassholders must redeem their tickets prior to the event: \n\n\n\nNYC FLAMENCO PASS: $15/month\n\nNYC Flamenco Pass members help support events like these\, receive priority seating\, and enjoy access to monthly experiences. Cancel anytime after 3-month minimum.
URL:https://flamenco-vivo.org/event/encuentro-flamenco-aug-27/
LOCATION:Flamenco Vivo Studios\, 4 West 43rd St.\, 8th Floor\, New York
CATEGORIES:Flamenco Vivo Events,NYC Flamenco Pass
ATTACH;FMTTYPE=image/jpeg:https://flamenco-vivo.org/wp-content/uploads/2025/07/IMG-20240818-WA0008-1-e1755617293992.jpg
END:VEVENT
END:VCALENDAR