BEGIN:VCALENDAR
VERSION:2.0
PRODID:-//Flamenco Vivo Carlota Santana - ECPv6.15.20//NONSGML v1.0//EN
CALSCALE:GREGORIAN
METHOD:PUBLISH
X-WR-CALNAME:Flamenco Vivo Carlota Santana
X-ORIGINAL-URL:https://flamenco-vivo.org
X-WR-CALDESC:Events for Flamenco Vivo Carlota Santana
REFRESH-INTERVAL;VALUE=DURATION:PT1H
X-Robots-Tag:noindex
X-PUBLISHED-TTL:PT1H
BEGIN:VTIMEZONE
TZID:UTC
BEGIN:STANDARD
TZOFFSETFROM:+0000
TZOFFSETTO:+0000
TZNAME:UTC
DTSTART:20210101T000000
END:STANDARD
END:VTIMEZONE
BEGIN:VEVENT
DTSTART;TZID=UTC:20221203T120000
DTEND;TZID=UTC:20221203T131500
DTSTAMP:20260424T070945
CREATED:20221109T214108Z
LAST-MODIFIED:20221109T214108Z
UID:11364-1670068800-1670073300@flamenco-vivo.org
SUMMARY:Virtual Master Class December 3
DESCRIPTION:Evolución:\nVirtual Master Class with Manuel Betanzos\n12:00 pm – 1:15 pm (via Zoom)\nLearn from the best: Join us for an ongoing series of Virtual Masterclasses with superstars of the flamenco world in rare virtual appearances. In the month of December Manuel Betanzos will lead a 1 hour 15 minute class exploring the weight\, sensations and character of Tientos. Prior flamenco experience required. \n\nTICKETS: $25\n\n\nAbout Evolución \nFlamenco Vivo’s Evolución a multi-tiered framework of support for flamenco artists at all stages of their careers. Developing\, performing and professional artists committed to ongoing evolution may join a growing network of fellow artists and engage in truly customized training.
URL:https://flamenco-vivo.org/event/virtual-master-class-december-3/
LOCATION:Zoom (Virtual)
CATEGORIES:Classes,Evolución,Flamenco Vivo Events,NYC Flamenco Pass
ATTACH;FMTTYPE=image/jpeg:https://flamenco-vivo.org/wp-content/uploads/2022/10/Manuel-Betanzos-1-scaled.jpg
END:VEVENT
BEGIN:VEVENT
DTSTART;VALUE=DATE:20221210
DTEND;VALUE=DATE:20221211
DTSTAMP:20260424T070945
CREATED:20221031T142939Z
LAST-MODIFIED:20221207T160347Z
UID:11302-1670630400-1670716799@flamenco-vivo.org
SUMMARY:Navidad Flamenca December 10
DESCRIPTION:Navidad Flamenca\n4:00 pm & 7:30 pm\nSavor traditional holiday treats and drinks while joining in your favorite villancico (Spanish carol) as we recreate an intimate holiday gathering of dance and music for our closest friends. \nOnly two performances: 4:00 pm family show and 7:30 pm evening show. \n\nTICKETS\n\n\n\n\nFree for NYC Flamenco Pass Holders\nPassholders must redeem their tickets prior to the performance: \n\n\nNYC FLAMENCO PASS: $15/month\n\nNYC Flamenco Pass members help support events like these\, receive priority seating\, and enjoy access to monthly experiences. Cancel anytime after 3-month minimum.
URL:https://flamenco-vivo.org/event/navidad-flamenca/
LOCATION:4W43 Ballroom\, 4 West 43rd Street\, New York\, NY\, 10036\, United States
CATEGORIES:Company Performance,Flamenco Vivo Events,NYC Flamenco Pass
ATTACH;FMTTYPE=image/jpeg:https://flamenco-vivo.org/wp-content/uploads/2022/10/FV22-Navidad-BG.jpg
END:VEVENT
END:VCALENDAR