BEGIN:VCALENDAR
VERSION:2.0
PRODID:-//Flamenco Vivo Carlota Santana - ECPv6.15.20//NONSGML v1.0//EN
CALSCALE:GREGORIAN
METHOD:PUBLISH
X-WR-CALNAME:Flamenco Vivo Carlota Santana
X-ORIGINAL-URL:https://flamenco-vivo.org
X-WR-CALDESC:Events for Flamenco Vivo Carlota Santana
REFRESH-INTERVAL;VALUE=DURATION:PT1H
X-Robots-Tag:noindex
X-PUBLISHED-TTL:PT1H
BEGIN:VTIMEZONE
TZID:UTC
BEGIN:STANDARD
TZOFFSETFROM:+0000
TZOFFSETTO:+0000
TZNAME:UTC
DTSTART:20220101T000000
END:STANDARD
END:VTIMEZONE
BEGIN:VTIMEZONE
TZID:America/New_York
BEGIN:DAYLIGHT
TZOFFSETFROM:-0500
TZOFFSETTO:-0400
TZNAME:EDT
DTSTART:20220313T070000
END:DAYLIGHT
BEGIN:STANDARD
TZOFFSETFROM:-0400
TZOFFSETTO:-0500
TZNAME:EST
DTSTART:20221106T060000
END:STANDARD
BEGIN:DAYLIGHT
TZOFFSETFROM:-0500
TZOFFSETTO:-0400
TZNAME:EDT
DTSTART:20230312T070000
END:DAYLIGHT
BEGIN:STANDARD
TZOFFSETFROM:-0400
TZOFFSETTO:-0500
TZNAME:EST
DTSTART:20231105T060000
END:STANDARD
BEGIN:DAYLIGHT
TZOFFSETFROM:-0500
TZOFFSETTO:-0400
TZNAME:EDT
DTSTART:20240310T070000
END:DAYLIGHT
BEGIN:STANDARD
TZOFFSETFROM:-0400
TZOFFSETTO:-0500
TZNAME:EST
DTSTART:20241103T060000
END:STANDARD
END:VTIMEZONE
BEGIN:VEVENT
DTSTART;TZID=UTC:20230204T130000
DTEND;TZID=UTC:20230204T143000
DTSTAMP:20260424T025225
CREATED:20230110T160149Z
LAST-MODIFIED:20230119T161834Z
UID:11671-1675515600-1675521000@flamenco-vivo.org
SUMMARY:Virtual Masterclass February 4
DESCRIPTION:EVOLUCIÓN: Virtual Master Class with Concha Jareño\nFebruary 4  |  Virtual (Zoom)\nSaturday @ 1:00–2:15 PM \nIf you can’t make it to Spain\, we’ll bring Spain to you! Learn from the best: Join us for an ongoing series of Virtual Masterclasses with superstars of the flamenco world in rare virtual appearances. In the month of February\, Concha Jareño will lead a class exploring the weight\, sensations and character of Guajiras. Prior flamenco experience required. Bring your questions to class! \nRegistration closes at 10:00 AM EST the morning of the class. Recording available for 48 hours after the live class. \n\nTICKETS
URL:https://flamenco-vivo.org/event/masterclass-february4/
LOCATION:Zoom (Virtual)
CATEGORIES:Classes,Evolución,Flamenco Vivo Events,NYC Flamenco Pass
ATTACH;FMTTYPE=image/jpeg:https://flamenco-vivo.org/wp-content/uploads/2023/01/IMG_2582.jpg
END:VEVENT
BEGIN:VEVENT
DTSTART;TZID=America/New_York:20230210T190000
DTEND;TZID=America/New_York:20230211T230000
DTSTAMP:20260424T025225
CREATED:20230105T165532Z
LAST-MODIFIED:20230207T185211Z
UID:11602-1676055600-1676156400@flamenco-vivo.org
SUMMARY:Peña On Stage February 10 & 11
DESCRIPTION:PEÑA FLAMENCA NYC: Peña On Stage\nFebruary 10-11  |  Chelsea Table + Stage\nFriday\, February 10 @ 7:00 pm\nSaturday\, February 11 @ 9:30 pm \nSpend a night out taking in the intimate and electric energy of Flamenco Vivo’s NYC version of the traditional Spanish flamenco club. Enjoy curated wine\, specialty cocktails\, and delicious food as you marvel at the creativity and power of talented dancers and musicians in a casual\, laid-back setting. Featuring guest performers from Spain and the US. \nIf you’ve never experienced flamenco before\, we invite you to share this incredible\, exciting tradition – one that invites you to feel\, more vividly. More alive. More you. \n\nWhat is a peña?\nA flamenco peña is an intimate performance venue run by flamenco artists and aficionados\, supported through membership\, and open to the public. Peñas are common in the South of Spain\, where flamenco originated\, and are similar to Jazz clubs in that they have a high caliber of artistry and are largely responsible for keeping the art form alive. \n\nSINGLE TICKETS\n\n\nPASSHOLDER TICKETS\nFree for NYC Flamenco Pass Holders\nPassholders must redeem their tickets prior to the performance: \n\n\nNYC FLAMENCO PASS: $15/month\n\nNYC Flamenco Pass members help support events like these\, receive priority seating\, and enjoy access to monthly experiences. Cancel anytime after 3-month minimum.
URL:https://flamenco-vivo.org/event/pena-on-stage-february-10-11/
LOCATION:Chelsea Table + Stage\, 152 West 26th Street\, New York\, NY\, 10001\, United States
CATEGORIES:Flamenco Vivo Events,La Peña Flamenca,NYC Flamenco Pass
ATTACH;FMTTYPE=image/jpeg:https://flamenco-vivo.org/wp-content/uploads/2023/01/FV2223-Pena-Header-Chelsea-Table-1920x1080-1.jpg
END:VEVENT
END:VCALENDAR