BEGIN:VCALENDAR
VERSION:2.0
PRODID:-//Flamenco Vivo Carlota Santana - ECPv6.15.20//NONSGML v1.0//EN
CALSCALE:GREGORIAN
METHOD:PUBLISH
X-WR-CALNAME:Flamenco Vivo Carlota Santana
X-ORIGINAL-URL:https://flamenco-vivo.org
X-WR-CALDESC:Events for Flamenco Vivo Carlota Santana
REFRESH-INTERVAL;VALUE=DURATION:PT1H
X-Robots-Tag:noindex
X-PUBLISHED-TTL:PT1H
BEGIN:VTIMEZONE
TZID:America/New_York
BEGIN:DAYLIGHT
TZOFFSETFROM:-0500
TZOFFSETTO:-0400
TZNAME:EDT
DTSTART:20220313T070000
END:DAYLIGHT
BEGIN:STANDARD
TZOFFSETFROM:-0400
TZOFFSETTO:-0500
TZNAME:EST
DTSTART:20221106T060000
END:STANDARD
BEGIN:DAYLIGHT
TZOFFSETFROM:-0500
TZOFFSETTO:-0400
TZNAME:EDT
DTSTART:20230312T070000
END:DAYLIGHT
BEGIN:STANDARD
TZOFFSETFROM:-0400
TZOFFSETTO:-0500
TZNAME:EST
DTSTART:20231105T060000
END:STANDARD
BEGIN:DAYLIGHT
TZOFFSETFROM:-0500
TZOFFSETTO:-0400
TZNAME:EDT
DTSTART:20240310T070000
END:DAYLIGHT
BEGIN:STANDARD
TZOFFSETFROM:-0400
TZOFFSETTO:-0500
TZNAME:EST
DTSTART:20241103T060000
END:STANDARD
END:VTIMEZONE
BEGIN:VEVENT
DTSTART;TZID=America/New_York:20230302T193000
DTEND;TZID=America/New_York:20230304T213000
DTSTAMP:20260423T160543
CREATED:20230105T165103Z
LAST-MODIFIED:20230220T153434Z
UID:11605-1677785400-1677965400@flamenco-vivo.org
SUMMARY:Tablao Flamenco:March 2-4
DESCRIPTION:COMPANY PERFORMANCE: Tablao Flamenco\nMarch 2-4  |  (Le) Poisson Rouge\nThursday March 2 @ 7:30 PM\nFriday March 3 @ 7:30 PM\nSaturday March 4 @ 7:30 PM\nDoors open at 6:30 PM for all shows. \nIn Andalucía the cool nights sizzle and crackle with energy from its famous tablaos. These café-style venues showcase flamenco at its most raw\, creative\, and authentic – where performers create by instinct and improvisation – showcase unbelievable technique – and create living art through the interplay between dancers\, musicians\, and audience. \nNow you can experience this type of Andalucían evening at (Le) Poisson Rouge– featuring live music – an international cast of world-class dancers – and a full selection of wine\, cocktails and food in an intimate\, accessible cabaret-style atmosphere. \n\nSINGLE TICKETS\n\n\nPASSHOLDER TICKETS\nFree for NYC Flamenco Pass Holders\nPassholders must redeem their tickets prior to the performance: \n\n\nNYC FLAMENCO PASS: $15/month\n\nNYC Flamenco Pass members help support events like these\, receive priority seating\, and enjoy access to monthly experiences. Cancel anytime after 3-month minimum. \n\nABOUT RAQUEL HEREDIA\nRaquel Heredia\, “La Repompa”\, originally from El Barrio de la Trinidad\, Málaga\, comes from a distinguished family of artists. The daughter of Rafaela Reyes and guitarist Luis Heredia\, she and her sister Amparo Heredia represent a long line of “Repompas y Repompillas de Málaga” starting with their great Aunt\, Enriqueta de la Santísima Trinidad de Los Reyes Porra\, the first Repompa. She spent her adolescence in the United States\, where she made her debut in the NYC tablaos at an early age. At 18 she toured with Juan Andrés Maya\, and then settled in Madrid to work in the tablaos of the capital city.  A self-taught dancer\, Heredia has performed in numerous theaters and Flamenco festivals around the world\, and has worked with artists such as Antonio Canales\, El Farru\, Antonio Molina\, El Choro and Pepe Torres\, among many others. Currently she is a guest artist in tablaos such as El Cordobés\, La Casa del Arte\, Jardines de Zoraya.  She is considered one of the greatest dancers of the current tablao scene.
URL:https://flamenco-vivo.org/event/tablao-flamenco-march-2-4/
LOCATION:(Le) Poisson Rouge\, 158 Bleecker St\, New York\, NY\, 10012\, United States
CATEGORIES:Company Performance,Flamenco Vivo Events,NYC Flamenco Pass
ATTACH;FMTTYPE=image/jpeg:https://flamenco-vivo.org/wp-content/uploads/2023/01/Copy-of-DSC01914-Edit.jpg
END:VEVENT
BEGIN:VEVENT
DTSTART;TZID=America/New_York:20230305T150000
DTEND;TZID=America/New_York:20230305T163000
DTSTAMP:20260423T160543
CREATED:20230127T153746Z
LAST-MODIFIED:20230131T135715Z
UID:11786-1678028400-1678033800@flamenco-vivo.org
SUMMARY:FREE History Class March 5
DESCRIPTION:EVOLUCIÓN: On Flamenco and the Roma\nMarch 5  |  Virtual (Zoom)\nSunday @ 3:00–4:30 PM EST \nThis virtual class with researcher Clara Chinoy and Roma artist Raquel Heredia of the Repompa family\, offers an introduction to the history of the Roma\, their movement through Spain and settlement in Andalucía.  We will look at the conception of flamenco over time through to the present day\, meet the “familias cantoras” and engage in an open discussion with our guests.  \nA recording will be available to view for 7 days after the live event (March 12). \n\nTICKETS\nAccess to this even is FREE and limited access – register your spot today! \n\n\nABOUT THE EDUCATORS\nCLARA CHINOY\, Universidad de Sevilla \nClara Chinoy is an independent flamenco dancer and researcher who has lived between Madrid\, Seville and Jerez for over 30 years. She is honored to have shared the stage with Miguel Funi\, Concha Vargas and Pepe Torres\, and to dance in fiesta to the cante of Miguel Funi\, Fernanda de Utrera\, Pepa de Utrera\, Gaspar de Utrera\, and Inés Bacán. She holds a B.A. in Anthropology from Harvard University; an M.F.A. in Dance from Tisch School of the Arts\, New York University; a Masters in Scenic Arts from Universidad Rey Juan Carlos and a Diploma of Advanced Studies from the Multidisciplinary program of Flamenco studies at the Universidad de Sevilla. She has taught at Smith\, Mount Holyoke and Hunter Colleges\, Wesleyan University\, Universidad Carlos III\, Universidad Rey Juan Carlos and Universidad de Sevilla. Her doctoral work in Gitano history\, integration and identity (Anthropology\, U. Sevilla) is based on a Fulbright Senior Research Grant (2000) in Andalucía. She has published in Flamenco on the Global Stage (MacFarland Books)\, Celebrating Flamenco’s Tangled Roots (Cambridge Scholars Publishing) and the Journal of Gypsy Studies\, and has recently completed the translation from Spanish to English of American Gitanos\, An Ethnography of the Calós in Mexico City by David Lagunas\, soon to be published by Palgrave MacMillan. She is also an experienced performer and teacher of classical South Indian dance. \nRAQUEL HEREDIA \nRaquel Heredia\, “La Repompa”\, originally from El Barrio de la Trinidad\, Málaga\, comes from a distinguished family of artists. The daughter of Rafaela Reyes and guitarist Luis Heredia\, she and her sister Amparo Heredia represent a long line of “Repompas y Repompillas de Málaga” starting with their great Aunt\, Enriqueta de la Santísima Trinidad de Los Reyes Porra\, the first Repompa. She spent her adolescence in the United States\, where she made her debut in the NYC tablaos at an early age. At 18 she toured with Juan Andrés Maya\, and then settled in Madrid to work in the tablaos of the capital city.  A self-taught dancer\, Heredia has performed in numerous theaters and Flamenco festivals around the world\, and has worked with artists such as Antonio Canales\, El Farru\, Antonio Molina\, El Choro and Pepe Torres\, among many others. Currently she is a guest artist in tablaos such as El Cordobés\, La Casa del Arte\, Jardines de Zoraya.  She is considered one of the greatest dancers of the current tablao scene.
URL:https://flamenco-vivo.org/event/history-class-march-5/
LOCATION:Zoom (Virtual)
CATEGORIES:Classes,Evolución,Flamenco Vivo Events,NYC Flamenco Pass
ATTACH;FMTTYPE=image/jpeg:https://flamenco-vivo.org/wp-content/uploads/2023/01/Alegrias.jpg
END:VEVENT
BEGIN:VEVENT
DTSTART;TZID=America/New_York:20230308T180000
DTEND;TZID=America/New_York:20230311T160000
DTSTAMP:20260423T160543
CREATED:20230127T150124Z
LAST-MODIFIED:20230220T143203Z
UID:11779-1678298400-1678550400@flamenco-vivo.org
SUMMARY:Dance Workshop March 8-11
DESCRIPTION:EVOLUCIÓN: Workshop with Raquel Heredia\nMarch 8–11  |  In-Person (Flamenco Vivo Studios | NYC)\nRAQUEL HEREDIA is back in NYC for a 4 day workshop March 8 – 11.  Don’t miss the opportunity to study in person with the best of the best from Spain! \nWEDNESDAY-FRIDAY\n6:00–7:30 PM Intermediate/Advance (Taranto)\n7:30–9:00 PM Advance Beginner (Alegrías)\n \nSATURDAY\n1:00–2:30 PM Intermediate/Advance (Taranto)\n2:30–4:00 PM Advance Beginner (Alegrías) \n\nPRICING*\n$45 Drop In \n$160 One Level \n$280 Both Levels \n\nTICKETS\n\n*Pre-registration and purchase is required in advance for all classes. \n\nABOUT RAQUEL HEREDIA\nRaquel Heredia\, “La Repompa”\, originally from El Barrio de la Trinidad\, Málaga\, comes from a distinguished family of artists. The daughter of Rafaela Reyes and guitarist Luis Heredia\, she and her sister Amparo Heredia represent a long line of “Repompas y Repompillas de Málaga” starting with their great Aunt\, Enriqueta de la Santísima Trinidad de Los Reyes Porra\, the first Repompa. She spent her adolescence in the United States\, where she made her debut in the NYC tablaos at an early age. At 18 she toured with Juan Andrés Maya\, and then settled in Madrid to work in the tablaos of the capital city.  A self-taught dancer\, Heredia has performed in numerous theaters and Flamenco festivals around the world\, and has worked with artists such as Antonio Canales\, El Farru\, Antonio Molina\, El Choro and Pepe Torres\, among many others. Currently she is a guest artist in tablaos such as El Cordobés\, La Casa del Arte\, Jardines de Zoraya.  She is considered one of the greatest dancers of the current tablao scene.
URL:https://flamenco-vivo.org/event/dance-workshop-march-8-11/
LOCATION:Flamenco Vivo Studios: Studio B\, 4 West 43rd St.\, 8th Floor\, New York
CATEGORIES:Classes,Evolución,Flamenco Vivo Events,NYC Flamenco Pass
ATTACH;FMTTYPE=image/jpeg:https://flamenco-vivo.org/wp-content/uploads/2023/01/Raquel-Heredia-1-MOD-BDS.jpg
END:VEVENT
END:VCALENDAR