BEGIN:VCALENDAR
VERSION:2.0
PRODID:-//Flamenco Vivo Carlota Santana - ECPv6.15.20//NONSGML v1.0//EN
CALSCALE:GREGORIAN
METHOD:PUBLISH
X-ORIGINAL-URL:https://flamenco-vivo.org
X-WR-CALDESC:Events for Flamenco Vivo Carlota Santana
REFRESH-INTERVAL;VALUE=DURATION:PT1H
X-Robots-Tag:noindex
X-PUBLISHED-TTL:PT1H
BEGIN:VTIMEZONE
TZID:America/New_York
BEGIN:DAYLIGHT
TZOFFSETFROM:-0500
TZOFFSETTO:-0400
TZNAME:EDT
DTSTART:20250309T070000
END:DAYLIGHT
BEGIN:STANDARD
TZOFFSETFROM:-0400
TZOFFSETTO:-0500
TZNAME:EST
DTSTART:20251102T060000
END:STANDARD
BEGIN:DAYLIGHT
TZOFFSETFROM:-0500
TZOFFSETTO:-0400
TZNAME:EDT
DTSTART:20260308T070000
END:DAYLIGHT
BEGIN:STANDARD
TZOFFSETFROM:-0400
TZOFFSETTO:-0500
TZNAME:EST
DTSTART:20261101T060000
END:STANDARD
BEGIN:DAYLIGHT
TZOFFSETFROM:-0500
TZOFFSETTO:-0400
TZNAME:EDT
DTSTART:20270314T070000
END:DAYLIGHT
BEGIN:STANDARD
TZOFFSETFROM:-0400
TZOFFSETTO:-0500
TZNAME:EST
DTSTART:20271107T060000
END:STANDARD
END:VTIMEZONE
BEGIN:VEVENT
DTSTART;TZID=America/New_York:20260131T193000
DTEND;TZID=America/New_York:20260131T213000
DTSTAMP:20260422T224153
CREATED:20251007T192049Z
LAST-MODIFIED:20251030T220739Z
UID:14659-1769887800-1769895000@flamenco-vivo.org
SUMMARY:Tablao Flamenco:January 31
DESCRIPTION:Tablao Flamenco\nJanuary 31 @ 7:30pm  |  (Le) Poisson Rouge\nIn Andalucía the cool nights sizzle and crackle with energy from its famous tablaos. These café-style venues showcase flamenco at its most raw\, creative\, and authentic – where performers create by instinct and improvisation – showcase unbelievable technique – and create living art through the interplay between dancers\, musicians\, and audience. \nNow you can experience this type of Andalucían evening at (Le) Poisson Rouge– featuring live music – an international cast of world-class dancers – and a full selection of wine and cocktails in an intimate\, accessible cabaret-style atmosphere. \n\nSINGLE TICKETS\n\n\nPASSHOLDER TICKETS \nFree for NYC Flamenco Pass Holders \n\n\nNYC FLAMENCO PASS: $15/month\n\nNYC Flamenco Pass members help support events like these\, receive priority seating\, and enjoy access to monthly experiences. Cancel anytime after 3-month minimum.
URL:https://flamenco-vivo.org/event/tablao-flamencojanuary-31/
LOCATION:(Le) Poisson Rouge\, 158 Bleecker St\, New York\, NY\, 10012\, United States
CATEGORIES:Company Performance,Flamenco Vivo Events,LPR,NYC Flamenco Pass
ATTACH;FMTTYPE=image/jpeg:https://flamenco-vivo.org/wp-content/uploads/2024/08/20190215_FlamencoVivoCarlotaSantana-LePoissonRouge_ChristopherDuggan_075-scaled.jpg
END:VEVENT
BEGIN:VEVENT
DTSTART;TZID=America/New_York:20260207T180000
DTEND;TZID=America/New_York:20260207T200000
DTSTAMP:20260422T224153
CREATED:20251218T171429Z
LAST-MODIFIED:20260114T192639Z
UID:14864-1770487200-1770494400@flamenco-vivo.org
SUMMARY:En Comunidad: Bronx Music Hall  Feb 7
DESCRIPTION:En Comunidad at Bronx Music Hall\nBronx Music Hall – 438 E 163rd St\, Bronx\, NY 10451\nFebruary 7\, 6:00PM \nEn Comunidad brings flamenco home—into the heart of our neighborhoods where it lives\, breathes\, and grows. Featuring performances by students from our arts education programs\, Flamenco Vivo Teaching Artists\, rising dancers from our Evolucion training program\, and Guest Artistic Director Karen Lugo\, this multigenerational showcase transforms Bronx Music Hall into a neighborhood gathering where flamenco becomes a shared language across generations. The boundaries between performer and audience dissolve as families\, friends\, and neighbors gather in an interactive flamenco experience outside the theater that closes the evening. More than a performance\, En Comunidad is a celebration of connection\, it’s an opportunity to have time and space to share who we are and what makes us move—where flamenco brings us together\, generations learn from each other\, and our neighborhoods become stages for art that belongs to all of us. \nEn Comunidad is presented in collaboration with @fundacionpacodelucia\, marking the beginning of a new partnership supporting our work to bring flamenco into schools\, neighborhoods\, and cultural centers across NYC. \n  \nEn Comunidad es pa’ todos. Choose the price that works for you. Those who can pay more help ensure no one is turned away\, creating a true community gathering. When we give what we can\, we create space for everyone\, juntos. \nPa’ Todos – $0 \nVecino – $10 \nAficionado – $25 \nCompañero – $50 \n\nGENERAL ADMISSION\n\n\nPASSHOLDER TICKETS\nNYC Flamenco Pass Holders\n\n\n\nNYC FLAMENCO PASS: $20/month\n\nNYC Flamenco Pass members help support events like these\, receive priority seating\, and enjoy access to monthly experiences. Cancel anytime after 3-month minimum.
URL:https://flamenco-vivo.org/event/en-comunidad-bronx-music-hall-feb-7/
LOCATION:Bronx Music Hall\, 438 E 163rd St\, NY 10451\, Bronx\, NY\, 10451\, United States
CATEGORIES:Flamenco Vivo Events,NYC Flamenco Pass
ATTACH;FMTTYPE=image/jpeg:https://flamenco-vivo.org/wp-content/uploads/2025/12/2023.12.16-Chelsea-Factory-FLAMENCO-VIVO-EN-COMUNIDAD-@seanchee-31.jpg
END:VEVENT
END:VCALENDAR