BEGIN:VCALENDAR
VERSION:2.0
PRODID:-//Flamenco Vivo Carlota Santana - ECPv6.15.20//NONSGML v1.0//EN
CALSCALE:GREGORIAN
METHOD:PUBLISH
X-WR-CALNAME:Flamenco Vivo Carlota Santana
X-ORIGINAL-URL:https://flamenco-vivo.org
X-WR-CALDESC:Events for Flamenco Vivo Carlota Santana
REFRESH-INTERVAL;VALUE=DURATION:PT1H
X-Robots-Tag:noindex
X-PUBLISHED-TTL:PT1H
BEGIN:VTIMEZONE
TZID:UTC
BEGIN:STANDARD
TZOFFSETFROM:+0000
TZOFFSETTO:+0000
TZNAME:UTC
DTSTART:20210101T000000
END:STANDARD
END:VTIMEZONE
BEGIN:VEVENT
DTSTART;VALUE=DATE:20221118
DTEND;VALUE=DATE:20221119
DTSTAMP:20260424T152624
CREATED:20220923T194936Z
LAST-MODIFIED:20221031T145128Z
UID:11189-1668729600-1668815999@flamenco-vivo.org
SUMMARY:Peña On Stage November 18
DESCRIPTION:PEÑA FLAMENCA NYC: Peña On Stage\n7:00 pm & 9:00 pm\nSpend a night out taking in the intimate and electric energy of our NYC take on the traditional Spanish flamenco club. Featuring guest performers from Spain and the US. All tickets include an open bar! \nWhat is a peña? \nA flamenco peña is an intimate performance venue run by flamenco artists and aficionados\, supported through membership\, and open to the public. Peñas are common in the South of Spain\, where flamenco originated\, and are similar to Jazz clubs in that they have a high caliber of artistry and are largely responsible for keeping the art form alive. \n\nTICKETS\n\n\nFree for NYC Flamenco Pass Holders\nPassholders must redeem their tickets prior to the performance: \n\n\nNYC FLAMENCO PASS: $15/month\n\nNYC Flamenco Pass members help support events like these\, receive priority seating\, and enjoy access to monthly experiences. Cancel anytime after 3-month minimum.
URL:https://flamenco-vivo.org/event/pena-on-stage-november-18/
LOCATION:4W43 Ballroom\, 4 West 43rd Street\, New York\, NY\, 10036\, United States
CATEGORIES:Flamenco Vivo Events,La Peña Flamenca,NYC Flamenco Pass
ATTACH;FMTTYPE=image/jpeg:https://flamenco-vivo.org/wp-content/uploads/2022/09/FV2223-Calendar-Image-640x480-2.jpg
END:VEVENT
END:VCALENDAR