BEGIN:VCALENDAR
VERSION:2.0
PRODID:-//Flamenco Vivo Carlota Santana - ECPv6.15.20//NONSGML v1.0//EN
CALSCALE:GREGORIAN
METHOD:PUBLISH
X-ORIGINAL-URL:https://flamenco-vivo.org
X-WR-CALDESC:Events for Flamenco Vivo Carlota Santana
REFRESH-INTERVAL;VALUE=DURATION:PT1H
X-Robots-Tag:noindex
X-PUBLISHED-TTL:PT1H
BEGIN:VTIMEZONE
TZID:America/New_York
BEGIN:DAYLIGHT
TZOFFSETFROM:-0500
TZOFFSETTO:-0400
TZNAME:EDT
DTSTART:20220313T070000
END:DAYLIGHT
BEGIN:STANDARD
TZOFFSETFROM:-0400
TZOFFSETTO:-0500
TZNAME:EST
DTSTART:20221106T060000
END:STANDARD
BEGIN:DAYLIGHT
TZOFFSETFROM:-0500
TZOFFSETTO:-0400
TZNAME:EDT
DTSTART:20230312T070000
END:DAYLIGHT
BEGIN:STANDARD
TZOFFSETFROM:-0400
TZOFFSETTO:-0500
TZNAME:EST
DTSTART:20231105T060000
END:STANDARD
BEGIN:DAYLIGHT
TZOFFSETFROM:-0500
TZOFFSETTO:-0400
TZNAME:EDT
DTSTART:20240310T070000
END:DAYLIGHT
BEGIN:STANDARD
TZOFFSETFROM:-0400
TZOFFSETTO:-0500
TZNAME:EST
DTSTART:20241103T060000
END:STANDARD
END:VTIMEZONE
BEGIN:VEVENT
DTSTART;TZID=America/New_York:20230308T180000
DTEND;TZID=America/New_York:20230311T160000
DTSTAMP:20260423T222201
CREATED:20230127T150124Z
LAST-MODIFIED:20230220T143203Z
UID:11779-1678298400-1678550400@flamenco-vivo.org
SUMMARY:Dance Workshop March 8-11
DESCRIPTION:EVOLUCIÓN: Workshop with Raquel Heredia\nMarch 8–11  |  In-Person (Flamenco Vivo Studios | NYC)\nRAQUEL HEREDIA is back in NYC for a 4 day workshop March 8 – 11.  Don’t miss the opportunity to study in person with the best of the best from Spain! \nWEDNESDAY-FRIDAY\n6:00–7:30 PM Intermediate/Advance (Taranto)\n7:30–9:00 PM Advance Beginner (Alegrías)\n \nSATURDAY\n1:00–2:30 PM Intermediate/Advance (Taranto)\n2:30–4:00 PM Advance Beginner (Alegrías) \n\nPRICING*\n$45 Drop In \n$160 One Level \n$280 Both Levels \n\nTICKETS\n\n*Pre-registration and purchase is required in advance for all classes. \n\nABOUT RAQUEL HEREDIA\nRaquel Heredia\, “La Repompa”\, originally from El Barrio de la Trinidad\, Málaga\, comes from a distinguished family of artists. The daughter of Rafaela Reyes and guitarist Luis Heredia\, she and her sister Amparo Heredia represent a long line of “Repompas y Repompillas de Málaga” starting with their great Aunt\, Enriqueta de la Santísima Trinidad de Los Reyes Porra\, the first Repompa. She spent her adolescence in the United States\, where she made her debut in the NYC tablaos at an early age. At 18 she toured with Juan Andrés Maya\, and then settled in Madrid to work in the tablaos of the capital city.  A self-taught dancer\, Heredia has performed in numerous theaters and Flamenco festivals around the world\, and has worked with artists such as Antonio Canales\, El Farru\, Antonio Molina\, El Choro and Pepe Torres\, among many others. Currently she is a guest artist in tablaos such as El Cordobés\, La Casa del Arte\, Jardines de Zoraya.  She is considered one of the greatest dancers of the current tablao scene.
URL:https://flamenco-vivo.org/event/dance-workshop-march-8-11/
LOCATION:Flamenco Vivo Studios: Studio B\, 4 West 43rd St.\, 8th Floor\, New York
CATEGORIES:Classes,Evolución,Flamenco Vivo Events,NYC Flamenco Pass
ATTACH;FMTTYPE=image/jpeg:https://flamenco-vivo.org/wp-content/uploads/2023/01/Raquel-Heredia-1-MOD-BDS.jpg
END:VEVENT
END:VCALENDAR