BEGIN:VCALENDAR
VERSION:2.0
PRODID:-//Flamenco Vivo Carlota Santana - ECPv6.15.20//NONSGML v1.0//EN
CALSCALE:GREGORIAN
METHOD:PUBLISH
X-ORIGINAL-URL:https://flamenco-vivo.org
X-WR-CALDESC:Events for Flamenco Vivo Carlota Santana
REFRESH-INTERVAL;VALUE=DURATION:PT1H
X-Robots-Tag:noindex
X-PUBLISHED-TTL:PT1H
BEGIN:VTIMEZONE
TZID:America/New_York
BEGIN:DAYLIGHT
TZOFFSETFROM:-0500
TZOFFSETTO:-0400
TZNAME:EDT
DTSTART:20220313T070000
END:DAYLIGHT
BEGIN:STANDARD
TZOFFSETFROM:-0400
TZOFFSETTO:-0500
TZNAME:EST
DTSTART:20221106T060000
END:STANDARD
BEGIN:DAYLIGHT
TZOFFSETFROM:-0500
TZOFFSETTO:-0400
TZNAME:EDT
DTSTART:20230312T070000
END:DAYLIGHT
BEGIN:STANDARD
TZOFFSETFROM:-0400
TZOFFSETTO:-0500
TZNAME:EST
DTSTART:20231105T060000
END:STANDARD
BEGIN:DAYLIGHT
TZOFFSETFROM:-0500
TZOFFSETTO:-0400
TZNAME:EDT
DTSTART:20240310T070000
END:DAYLIGHT
BEGIN:STANDARD
TZOFFSETFROM:-0400
TZOFFSETTO:-0500
TZNAME:EST
DTSTART:20241103T060000
END:STANDARD
END:VTIMEZONE
BEGIN:VEVENT
DTSTART;TZID=America/New_York:20231020T190000
DTEND;TZID=America/New_York:20231020T210000
DTSTAMP:20260420T035436
CREATED:20230718T145649Z
LAST-MODIFIED:20231026T005116Z
UID:12475-1697828400-1697835600@flamenco-vivo.org
SUMMARY:Flamenco Certamen USA October 20
DESCRIPTION:Evolución:\nFlamenco Certamen USA\nOctober 20 @ 7:00 PM  |  Bruno Walter Auditorium (NYC)\nJoin us for the Flamenco Certamen USA; the nation’s only competition for up-and-coming flamenco artists. Finalists from across the country will share their work and compete for cash and scholarships to study in Spain. Witness rising artists at their best! \nVirtual Viewing Passes are available through November 15 at 11:59pm! \n\n\n\n\nPASSHOLDER TICKETS\nFree for NYC Flamenco Pass Holders\nPassholders must redeem their tickets prior to the performance: \n\n\n\n\nNYC FLAMENCO PASS: $15/month\n\nNYC Flamenco Pass members help support events like these\, receive priority seating\, and enjoy access to monthly experiences. Cancel anytime after 3-month minimum.
URL:https://flamenco-vivo.org/event/flamenco-certamen-usa-october-20/
LOCATION:Bruno Walter Auditorium\, 40 Lincoln Center Plaza\, New York\, NY\, United States
CATEGORIES:Certamen,Evolución,Flamenco Vivo Events,NYC Flamenco Pass
ATTACH;FMTTYPE=image/jpeg:https://flamenco-vivo.org/wp-content/uploads/2023/07/IMG_5906-scaled.jpg
END:VEVENT
END:VCALENDAR