BEGIN:VCALENDAR
VERSION:2.0
PRODID:-//Flamenco Vivo Carlota Santana - ECPv6.15.20//NONSGML v1.0//EN
CALSCALE:GREGORIAN
METHOD:PUBLISH
X-WR-CALNAME:Flamenco Vivo Carlota Santana
X-ORIGINAL-URL:https://flamenco-vivo.org
X-WR-CALDESC:Events for Flamenco Vivo Carlota Santana
REFRESH-INTERVAL;VALUE=DURATION:PT1H
X-Robots-Tag:noindex
X-PUBLISHED-TTL:PT1H
BEGIN:VTIMEZONE
TZID:America/New_York
BEGIN:DAYLIGHT
TZOFFSETFROM:-0500
TZOFFSETTO:-0400
TZNAME:EDT
DTSTART:20240310T070000
END:DAYLIGHT
BEGIN:STANDARD
TZOFFSETFROM:-0400
TZOFFSETTO:-0500
TZNAME:EST
DTSTART:20241103T060000
END:STANDARD
BEGIN:DAYLIGHT
TZOFFSETFROM:-0500
TZOFFSETTO:-0400
TZNAME:EDT
DTSTART:20250309T070000
END:DAYLIGHT
BEGIN:STANDARD
TZOFFSETFROM:-0400
TZOFFSETTO:-0500
TZNAME:EST
DTSTART:20251102T060000
END:STANDARD
BEGIN:DAYLIGHT
TZOFFSETFROM:-0500
TZOFFSETTO:-0400
TZNAME:EDT
DTSTART:20260308T070000
END:DAYLIGHT
BEGIN:STANDARD
TZOFFSETFROM:-0400
TZOFFSETTO:-0500
TZNAME:EST
DTSTART:20261101T060000
END:STANDARD
END:VTIMEZONE
BEGIN:VEVENT
DTSTART;TZID=America/New_York:20250719T190000
DTEND;TZID=America/New_York:20250719T203000
DTSTAMP:20260422T013544
CREATED:20250604T181121Z
LAST-MODIFIED:20250630T173919Z
UID:14273-1752951600-1752957000@flamenco-vivo.org
SUMMARY:Juerga Flamenca Jul 19
DESCRIPTION:Juerga Flamenca\nFlamenco Vivo Studio A – 4 West 43rd Street\, 8th Floor\nSaturday\, July 19 @ 7:00 PM \nCollaboration. Communication. Improvisation. Join the NYC flamenco community in a traditional flamenco juerga or jam session. No experience necessary – come and observe the festivities and enjoy some wine and light bites or jump right in and learn some new steps! \nEnjoy wine and dessert courtesy of Flamenco in New York\, your guide to finding all the best flamenco events in NYC! \nThis event is FREE for NYC Flamenco Passholders. All other attendees $15 in advance\nGeneral Tickets:\n\n\nPASSHOLDER TICKETS\nFree for NYC Flamenco Pass Holders\nPassholders must redeem their tickets prior to the event: \n\n\n\nNYC FLAMENCO PASS: $15/month\n\nNYC Flamenco Pass members help support events like these\, receive priority seating\, and enjoy access to monthly experiences. Cancel anytime after 3-month minimum.
URL:https://flamenco-vivo.org/event/juerga-flamenca-jul-19/
LOCATION:Flamenco Vivo Studios\, 4 West 43rd St.\, 8th Floor\, New York
CATEGORIES:Flamenco Vivo Events,NYC Flamenco Pass
ATTACH;FMTTYPE=image/jpeg:https://flamenco-vivo.org/wp-content/uploads/2024/11/2023.12.16-Chelsea-Factory-FLAMENCO-VIVO-EN-COMUNIDAD-@seanchee-23-scaled.jpg
END:VEVENT
END:VCALENDAR